Workbook
Name Affordable_area: #REF!
Name AHIB: #REF!
Name AHIB_Credits: #REF!
Name Attached_range: #REF!
Name Capital_grant: #REF!
Name Capital_revenue: #REF!
Name Car_bays: #REF!
Name Cash_Interest_Rate: #REF!
Name Commercial_area: #REF!
Name Commercial_outcome: #REF!
Name Commercial_rental_revenue: #REF!
Name Commercial_sale_revenue: #REF!
Name Construction_cost: #REF!
Name Construction_Cost_Loading: #REF!
Name cost_index: #REF!
Name cost_index_rate: #REF!
Name cra: #REF!
Name DA_rate: #REF!
Name deposit: #REF!
Name Detached_range: #REF!
Name devel_interest_lever: #REF!
Name devel_interest_rate: #REF!
Name Devel_Time: #REF!
Name Development_type_SI: #REF!
Name DevelopmentType: #REF!
Name Dwellings_affordable_rental: #REF!
Name Dwellings_est: #REF!
Name Dwellings_market_rentals: #REF!
Name Dwellings_total: #REF!
Name four_bed: #REF!
Name Infrastructure_contribution: #REF!
Name Infrastructure_contribution_rate: #REF!
Name Land_cost: #REF!
Name Land_equity: #REF!
Name Land_equity_percent: #REF!
Name Land_tax: #REF!
Name Land_Tax_Rate: #REF!
Name Loan_Term: #REF!
Name Low_Rise_range: #REF!
Name Market_area: #REF!
Name Market_Land_Value: #REF!
Name Market_rental: #REF!
Name Market_rental_revenue: #REF!
Name Market_rental_share: #REF!
Name Market_sale_revenue: #REF!
Name Market_sale_share: #REF!
Name Market_sales: #REF!
Name Market_Values: #REF!
Name max_repayment: #REF!
Name new_devel_interest: #REF!
Name new_op_interest: #REF!
Name NHFIC_full_debt: #REF!
Name NHFIC_with_AHIB: #REF!
Name NRAS_CHP: #REF!
Name NRAS_length: #REF!
Name NRAS_Sale: #REF!
Name NRAS_type: #REF!
Name NRAS_value: #REF!
Name one_bed: #REF!
Name op_interest_lever: #REF!

Sheet Frontpage
B3: Version 1.1 (February 2025)
B8: SIGMAH (Social Infrastructure and Green Measures for Affordable Housing) aims to provide social and affordable housing developers
B9: with estimates of the wider social, economic and environmental benefits that social and affordable
B10: housing can provide. The calculator consists of three components:
B12: 1. A social and affordable (tenure) specific module that estimates of public sector cost offsets, tenant financial benefits and tenant wellbeing benefits. The current version contains the beta-version of this component.
B13: 2. An environmental and local amenities component that estimates access to transport and local amenities, CO2 sequestration, monetary equivalents of greenhouse gas reduction, health and tenant financial benefits from the provision of green infrastructure components.
B14: The current version contains the beta-version of this component.
B15: 3. A carbon footprint module that aims to provide estimates of embodied CO2 footprint from new construction and GHG and tenant financial benefits from better building standards. The current version contains the beta-version of this component.
B18: INSTRUCTIONS
B19: This calculator will allow you to estimate the wider social, economic and environmental benefits associated with new S&A-Housing development. In all instances, except homelessness, the counterfactual outcomes considered is private rental tenancy.
B21: Cells that are coloured in | E21: GREEN | F21: are currently adjustable. Enter relevant information about housing, tenants, amenities, green space and building materials in these.
B22: Cells that are coloured in | E22: PEACH | F22: will appear, dissapear or contain notifications and information depending on other settings in the calculator.
B25: All cells exepct those coloured in | F25: GREEN | G25: are intended to be locked to avoid inadvertedly changing calculations/methods.
P26: SIGMAH was funded by:

Sheet Green+Social Interface
C2: HOUSING DEVELOPMENT DETAILS
C4: SPECIALISED TENANT SERVICES (CHOICE-BASED CHARACTERISTICS)
E5: Affordable | F5: Social | H5: Wrap-around homelessness service | J5: Select | N5: Turnover rate | O5: Per cent
C6: Homeless: long-term (12+ months), rough sleep | H6: Wrap-around provided homeless (long-term) | J6: No | N6: Turnover rate | O6: 0.07
C7: Homeless: other | H7: Wrap-around provided homeless (other) | J7: No
C8: Homeless: long-term (12+ months), rough sleep (dis.)
C9: Homeless: other (disability)
C10: Homeless: presenting with Domestic Violence | H10: Properties for people with disability | J10: Number | N10: Vacancy rate | O10: Per cent | S10: Development size | U10: In sqm
C11: Allocations to individuals exiting prison | H11: In good condition for people with disability | N11: Vacancy rate | O11: 0.025 | S11: Total sqm of development site
C12: =IF(AND(SUM(E6:E11)>SUM(D18:D22,I18:I22),SUM(F6:F11)>SUM(O18:O22,T18:T22)),"Note: number of specialised tenant allocations exceeds available number of dwellings in both affordable and social housing",IF(AND(SUM(E6:E11)>SUM(D18:D22,I18:I22),SUM(F6:F11)<=SUM(O18:O22,T18:T22)),"Note: number of specialised tenant allocations exceeds available number of dwellings in affordable housing",IF(AND(SUM(E6:E11)<=SUM(D18:D22,I18:I22),SUM(F6:F11)>SUM(O18:O22,T18:T22)),"Note: number of specialised tenant allocations exceeds available number of dwellings in social housing","")))
C15: DEVELOPMENT DESIGN (PROBABILISTIC-BASED CHARACTERISTICS)
C16: Affordable housing | H16: Affordable housing | N16: Social housing | S16: Social housing
C17: Houses/semi-detached/townhouses | D17: Number of dwellings | E17: Average size (sqm) | F17: One parent allocations | H17: Apartment style | I17: Number of dwellings | J17: Average size (sqm) | K17: Balcony, patio or garden | L17: One parent allocations | N17: Houses/semi-detached/townhouses | O17: Number of dwellings | P17: Average size (sqm) | Q17: One parent allocations | S17: Apartment style | T17: Number of dwellings | U17: Average size (sqm) | V17: Balcony, patio or garden | W17: One parent allocations
C18: 1-bed | E18: 50 | H18: Studio | J18: 14 | N18: 1-bed | P18: 50 | S18: Studio | U18: 35
C19: 2-bed | E19: 75 | H19: 1-bed | J19: 50 | N19: 2-bed | P19: 75 | S19: 1-bed | U19: 50
C20: 3-bed | E20: 85 | H20: 2-bed | J20: 75 | N20: 3-bed | P20: 85 | S20: 2-bed | U20: 75
C21: 4-bed | E21: 95 | H21: 3-bed | J21: 85 | N21: 4-bed | P21: 95 | S21: 3-bed | U21: 85
C22: 5-bed | E22: 105 | H22: 4-bed | J22: 95 | N22: 5-bed | P22: 105 | S22: 4-bed | U22: 95
C24: Energy ratings affordable house/semi-detached/townhouses | H24: Energy ratings affordable apartment style | N24: Energy ratings social house/semi-detached/townhouses | S24: Energy ratings social apartment style
C25: NatHERS | D25: 6 | H25: NatHERS | I25: 6 | N25: NatHERS | O25: 6 | S25: NatHERS | T25: 6
C26: Energy Star Rating (Cooling) | D26: 3 | H26: Energy Star Rating (Cooling) | I26: 3 | N26: Energy Star Rating (Cooling) | O26: 3 | S26: Energy Star Rating (Cooling) | T26: 3
C27: Energy Star Rating (Heating) | D27: 3 | H27: Energy Star Rating (Heating) | I27: 3 | N27: Energy Star Rating (Heating) | O27: 3 | S27: Energy Star Rating (Heating) | T27: 3
C30: MARKET DETAILS
C33: User providing rental data? | H33: Time value of money
C34: Using own rental information | D34: No | H34: Discount rate | I34: 0.07
C35: =IF(D34="Yes","Is rental data based on market valuations?","") | D35: No | H35: Consumer price inflation | I35: 0
C37: Representative market | H37: First year of operation
C38: State | D38: NSW | H38: Base year of calculation | I38: 2023
C39: Significant Urban Area | D39: Sydney
H40: Affordability rent discount
C41: =IF(IFERROR(VLOOKUP(D39,INDIRECT(D38&"[Table]"),1,FALSE),"FALSE")="FALSE","NOTE: Selected SUA not found in selected state/territory","") | H41: % of market rent | I41: 0.7499
C43: RENTAL INFORMATION
C44: Representative market rents
C45: Detached/semi-detached/townhouses | D45: =IF($D$34="Yes","User","Not Used") -> Not Used | E45: Calculator | H45: Apartment style flats | I45: =IF($D$34="Yes","User","Not Used") -> Not Used | J45: Calculator
C46: 1-bed | E46: =ROUND(IF($D$34="Yes",D46,VLOOKUP($D$39,'Look-ups_2'!$B$4:$AB$113,7,FALSE)),0) -> 276 | H46: Studio | J46: =ROUND(IF($D$34="Yes",I46,VLOOKUP($D$39,'Look-ups_2'!$B$4:$AB$113,13,FALSE)),0) -> 280
C47: 2-bed | E47: =ROUND(IF($D$34="Yes",D47,VLOOKUP($D$39,'Look-ups_2'!$B$4:$AB$113,8,FALSE)),0) -> 398 | H47: 1-bed | J47: =ROUND(IF($D$34="Yes",I47,VLOOKUP($D$39,'Look-ups_2'!$B$4:$AB$113,14,FALSE)),0) -> 377
C48: 3-bed | E48: =ROUND(IF($D$34="Yes",D48,VLOOKUP($D$39,'Look-ups_2'!$B$4:$AB$113,9,FALSE)),0) -> 486 | H48: 2-bed | J48: =ROUND(IF($D$34="Yes",I48,VLOOKUP($D$39,'Look-ups_2'!$B$4:$AB$113,15,FALSE)),0) -> 404
C49: 4-bed | E49: =ROUND(IF($D$34="Yes",D49,VLOOKUP($D$39,'Look-ups_2'!$B$4:$AB$113,10,FALSE)),0) -> 619 | H49: 3-bed | J49: =ROUND(IF($D$34="Yes",I49,VLOOKUP($D$39,'Look-ups_2'!$B$4:$AB$113,16,FALSE)),0) -> 528
C50: 5-bed | E50: =ROUND(IF($D$34="Yes",D50,VLOOKUP($D$39,'Look-ups_2'!$B$4:$AB$113,11,FALSE)),0) -> 746 | H50: 4-bed | J50: =ROUND(IF($D$34="Yes",I50,VLOOKUP($D$39,'Look-ups_2'!$B$4:$AB$113,17,FALSE)),0) -> 593
C58: ENVIRONMENTAL & LOCAL AMENITY DETAILS
...

Sheet Summary graphs

Sheet Summary benefits
J1: Average per dwell, per annum (40) | K1: Average per annum (40) | L1: Total over 40 years | M1: Yr 1 | N1: Yr 2 | O1: Yr 3 | P1: Yr 4 | Q1: Yr 5 | R1: Yr 6 | S1: Yr 7 | T1: Yr 8 | U1: Yr 9 | V1: Yr 10 | W1: Yr 11 | X1: Yr 12 | Y1: Yr 13 | Z1: Yr 14 | AA1: Yr 15 | AB1: Yr 16 | AC1: Yr 17 | AD1: Yr 18 | AE1: Yr 19 | AF1: Yr 20 | AG1: Yr 21 | AH1: Yr 22 | AI1: Yr 23 | AJ1: Yr 24 | AK1: Yr 25 | AL1: Yr 26 | AM1: Yr 27 | AN1: Yr 28 | AO1: Yr 29 | AP1: Yr 30 | AQ1: Yr 31 | AR1: Yr 32 | AS1: Yr 33 | AT1: Yr 34 | AU1: Yr 35 | AV1: Yr 36 | AW1: Yr 37 | AX1: Yr 38 | AY1: Yr 39 | AZ1: Yr 40
B2: MONETISED BENEFITS HOUSING DEVELOPMENT INPUTS
B3: Total public benefit ($) | D3: Public | J3: =IF(AND(K3>0,'Social Infrastructure'!$B$85>0),K3/'Social Infrastructure'!$B$85,0) -> 0 | K3: =AVERAGE(M3:AZ3) -> 0 | L3: =SUM(M3:AZ3) -> 0 | M3: ='Social Infrastructure'!N47 -> 0 | N3: ='Social Infrastructure'!O47 -> 0 | O3: ='Social Infrastructure'!P47 -> 0 | P3: ='Social Infrastructure'!Q47 -> 0 | Q3: ='Social Infrastructure'!R47 -> 0 | R3: ='Social Infrastructure'!S47 -> 0 | S3: ='Social Infrastructure'!T47 -> 0 | T3: ='Social Infrastructure'!U47 -> 0 | ... AZ3: ='Social Infrastructure'!BA47 -> 0
B4: Total private benefit ($) | D4: Private | J4: =IF(AND(K4>0, 'Social Infrastructure'!$B$85>0),K4/'Social Infrastructure'!$B$85,0) -> 0 | K4: =AVERAGE(M4:AZ4) -> 0 | L4: =SUM(M4:AZ4) -> 0 | M4: ='Social Infrastructure'!N48 -> 0 | N4: ='Social Infrastructure'!O48 -> 0 | O4: ='Social Infrastructure'!P48 -> 0 | P4: ='Social Infrastructure'!Q48 -> 0 | Q4: ='Social Infrastructure'!R48 -> 0 | R4: ='Social Infrastructure'!S48 -> 0 | S4: ='Social Infrastructure'!T48 -> 0 | T4: ='Social Infrastructure'!U48 -> 0 | ... AZ4: ='Social Infrastructure'!BA48 -> 0
B5: Total private benefit, WTP + wellbeing($) | D5: Private | J5: =IF(AND(K5>0, 'Social Infrastructure'!$B$85>0),K5/'Social Infrastructure'!$B$85,0) -> 0 | K5: =AVERAGE(M5:AZ5) -> 0 | L5: =SUM(M5:AZ5) -> 0 | M5: ='Social Infrastructure'!N64+'Green Infrastructure'!M15 -> 0 | N5: ='Social Infrastructure'!O64+'Green Infrastructure'!N15 -> 0 | O5: ='Social Infrastructure'!P64+'Green Infrastructure'!O15 -> 0 | P5: ='Social Infrastructure'!Q64+'Green Infrastructure'!P15 -> 0 | Q5: ='Social Infrastructure'!R64+'Green Infrastructure'!Q15 -> 0 | R5: ='Social Infrastructure'!S64+'Green Infrastructure'!R15 -> 0 | S5: ='Social Infrastructure'!T64+'Green Infrastructure'!S15 -> 0 | T5: ='Social Infrastructure'!U64+'Green Infrastructure'!T15 -> 0 | ... AZ5: ='Social Infrastructure'!BA64+'Green Infrastructure'!AZ15 -> 0
B6: Total housing development benefits ($) | D6: Combined | J6: =IF(AND(K6>0, 'Social Infrastructure'!$B$85>0),K6/'Social Infrastructure'!$B$85,0) -> 0 | K6: =AVERAGE(M6:AZ6) -> 0 | L6: =SUM(M6:AZ6) -> 0 | M6: =M3+M5 -> 0 | N6: =N3+N5 -> 0 | O6: =O3+O5 -> 0 | P6: =P3+P5 -> 0 | Q6: =Q3+Q5 -> 0 | R6: =R3+R5 -> 0 | S6: =S3+S5 -> 0 | T6: =T3+T5 -> 0 | ... AZ6: =AZ3+AZ5 -> 0
B7: NPV Total public benefit ($) | D7: Public | J7: =IF(AND(K7>0, 'Social Infrastructure'!$B$85>0),K7/'Social Infrastructure'!$B$85,0) -> 0 | K7: =L7/40 -> 0 | L7: =NPV('Social Infrastructure'!$C$79,M3:AZ3) -> 0
B8: NPV Total private benefit ($) | D8: Private | J8: =IF(AND(K8>0, 'Social Infrastructure'!$B$85>0),K8/'Social Infrastructure'!$B$85,0) -> 0 | K8: =L8/40 -> 0 | L8: =NPV('Social Infrastructure'!$C$79,M4:AZ4) -> 0
B9: NPV Total private benefit, WTP + wellbeing ($) | D9: Private | J9: =IF(AND(K9>0, 'Social Infrastructure'!$B$85>0),K9/'Social Infrastructure'!$B$85,0) -> 0 | K9: =L9/40 -> 0 | L9: =NPV('Social Infrastructure'!$C$79,M5:AZ5) -> 0
B10: NPV Total housing development benefits ($) | D10: Combined | J10: =IF(AND(K10>0, 'Social Infrastructure'!$B$85>0),K10/'Social Infrastructure'!$B$85,0) -> 0 | K10: =L10/40 -> 0 | L10: =NPV('Social Infrastructure'!$C$79,M6:AZ6) -> 0
B12: MONETISED BENEFITS ENVIRONMENTAL AND LOCAL AMENITIES INPUTS
B13: Green infrastructure GHG sequestration & health from canopy cover
B14: GHG sequestration (CO2) benefit (tons) | D14: Public | J14: =IFERROR(K14/'Social Infrastructure'!$B$85,0) -> 0 | K14: =AVERAGE(M14:AZ14) -> 0 | L14: =SUM(M14:AZ14) -> 0 | M14: ='Green Infrastructure'!M42 -> 0 | N14: ='Green Infrastructure'!N42 -> 0 | O14: ='Green Infrastructure'!O42 -> 0 | P14: ='Green Infrastructure'!P42 -> 0 | Q14: ='Green Infrastructure'!Q42 -> 0 | R14: ='Green Infrastructure'!R42 -> 0 | S14: ='Green Infrastructure'!S42 -> 0 | T14: ='Green Infrastructure'!T42 -> 0 | ... AZ14: ='Green Infrastructure'!AZ42 -> 0
B15: GHG sequestration social value ($) | D15: Public | J15: =IFERROR(K15/'Social Infrastructure'!$B$85,0) -> 0 | K15: =AVERAGE(M15:AZ15) -> 0 | L15: =SUM(M15:AZ15) -> 0 | M15: ='Green Infrastructure'!M44 -> 0 | N15: ='Green Infrastructure'!N44 -> 0 | O15: ='Green Infrastructure'!O44 -> 0 | P15: ='Green Infrastructure'!P44 -> 0 | Q15: ='Green Infrastructure'!Q44 -> 0 | R15: ='Green Infrastructure'!R44 -> 0 | S15: ='Green Infrastructure'!S44 -> 0 | T15: ='Green Infrastructure'!T44 -> 0 | ... AZ15: ='Green Infrastructure'!AZ44 -> 0
B16: Clean air benefit from green infrastructure ($) | D16: Public | J16: =IFERROR(K16/'Social Infrastructure'!$B$85,0) -> 0 | K16: =AVERAGE(M16:AZ16) -> 0 | L16: =SUM(M16:AZ16) -> 0 | M16: ='Green Infrastructure'!M49 -> 0 | N16: ='Green Infrastructure'!N49 -> 0 | O16: ='Green Infrastructure'!O49 -> 0 | P16: ='Green Infrastructure'!P49 -> 0 | Q16: ='Green Infrastructure'!Q49 -> 0 | R16: ='Green Infrastructure'!R49 -> 0 | S16: ='Green Infrastructure'!S49 -> 0 | T16: ='Green Infrastructure'!T49 -> 0 | ... AZ16: ='Green Infrastructure'!AZ49 -> 0
B18: Green infrastructure and urban cooling
B19: GHG reduction from green infrastructure cooling (CO2 tons) | D19: Public | J19: =IFERROR(K19/'Social Infrastructure'!$B$85,0) -> 0 | K19: =AVERAGE(M19:AZ19) -> 0 | L19: =SUM(M19:AZ19) -> 0 | M19: ='Green Infrastructure'!M43 -> 0 | N19: ='Green Infrastructure'!N43 -> 0 | O19: ='Green Infrastructure'!O43 -> 0 | P19: ='Green Infrastructure'!P43 -> 0 | Q19: ='Green Infrastructure'!Q43 -> 0 | R19: ='Green Infrastructure'!R43 -> 0 | S19: ='Green Infrastructure'!S43 -> 0 | T19: ='Green Infrastructure'!T43 -> 0 | ... AZ19: ='Green Infrastructure'!AZ43 -> 0
B20: GHG reduction from green infrastructure cooling ($) | D20: Public | J20: =IFERROR(K20/'Social Infrastructure'!$B$85,0) -> 0 | K20: =AVERAGE(M20:AZ20) -> 0 | L20: =SUM(M20:AZ20) -> 0 | M20: ='Green Infrastructure'!M45 -> 0 | N20: ='Green Infrastructure'!N45 -> 0 | O20: ='Green Infrastructure'!O45 -> 0 | P20: ='Green Infrastructure'!P45 -> 0 | Q20: ='Green Infrastructure'!Q45 -> 0 | R20: ='Green Infrastructure'!R45 -> 0 | S20: ='Green Infrastructure'!S45 -> 0 | T20: ='Green Infrastructure'!T45 -> 0 | ... AZ20: ='Green Infrastructure'!AZ45 -> 0
B21: Health benefit from green infrastructure cooling ($) | D21: Public | J21: =IFERROR(K21/'Social Infrastructure'!$B$85,0) -> 0 | K21: =AVERAGE(M21:AZ21) -> 0 | L21: =SUM(M21:AZ21) -> 0 | M21: ='Green Infrastructure'!M48 -> 0 | N21: ='Green Infrastructure'!N48 -> 0 | O21: ='Green Infrastructure'!O48 -> 0 | P21: ='Green Infrastructure'!P48 -> 0 | Q21: ='Green Infrastructure'!Q48 -> 0 | R21: ='Green Infrastructure'!R48 -> 0 | S21: ='Green Infrastructure'!S48 -> 0 | T21: ='Green Infrastructure'!T48 -> 0 | ... AZ21: ='Green Infrastructure'!AZ48 -> 0
B22: Combined CO2 abatement and health from canopy cover and urban cooling
B23: GHG reduction from green infrastructure cooling and sequestration (CO2 tons) | D23: Public | J23: =IFERROR(K23/'Social Infrastructure'!$B$85,0) -> 0 | K23: =AVERAGE(M23:AZ23) -> 0 | L23: =SUM(M23:AZ23) -> 0 | M23: =M14+M19 -> 0 | N23: =N14+N19 -> 0 | O23: =O14+O19 -> 0 | P23: =P14+P19 -> 0 | Q23: =Q14+Q19 -> 0 | R23: =R14+R19 -> 0 | S23: =S14+S19 -> 0 | T23: =T14+T19 -> 0 | ... AZ23: =AZ14+AZ19 -> 0
B24: GHG reduction from green infrastructure cooling and sequestration ($) | D24: Public | J24: =IFERROR(K24/'Social Infrastructure'!$B$85,0) -> 0 | K24: =AVERAGE(M24:AZ24) -> 0 | L24: =SUM(M24:AZ24) -> 0 | M24: =M15+M20 -> 0 | N24: =N15+N20 -> 0 | O24: =O15+O20 -> 0 | P24: =P15+P20 -> 0 | Q24: =Q15+Q20 -> 0 | R24: =R15+R20 -> 0 | S24: =S15+S20 -> 0 | T24: =T15+T20 -> 0 | ... AZ24: =AZ15+AZ20 -> 0
B25: Health and clean air benefits ($) | D25: Public | J25: =IFERROR(K25/'Social Infrastructure'!$B$85,0) -> 0 | K25: =AVERAGE(M25:AZ25) -> 0 | L25: =SUM(M25:AZ25) -> 0 | M25: =M21+M16 -> 0 | N25: =N21+N16 -> 0 | O25: =O21+O16 -> 0 | P25: =P21+P16 -> 0 | Q25: =Q21+Q16 -> 0 | R25: =R21+R16 -> 0 | S25: =S21+S16 -> 0 | T25: =T21+T16 -> 0 | ... AZ25: =AZ21+AZ16 -> 0
B26: Total environmental and local amenity inputs ($) | J26: =IFERROR(K26/'Social Infrastructure'!$B$85,0) -> 0 | K26: =AVERAGE(M26:AZ26) -> 0 | L26: =SUM(M26:AZ26) -> 0 | M26: =M24+M25 -> 0 | N26: =N24+N25 -> 0 | O26: =O24+O25 -> 0 | P26: =P24+P25 -> 0 | Q26: =Q24+Q25 -> 0 | R26: =R24+R25 -> 0 | S26: =S24+S25 -> 0 | T26: =T24+T25 -> 0 | ... AZ26: =AZ24+AZ25 -> 0
B28: NET PRESENT VALUE canopy cover & GHG sequestration
B29: NPV GHG sequestration ($) | D29: Public | J29: =IFERROR(K29/'Social Infrastructure'!$B$85,0) -> 0 | K29: =L29/40 -> 0 | L29: =NPV('Social Infrastructure'!$C$79,M15:AZ15) -> 0
B31: NET PRESENT VALUE GHG sequestration, cooling and health
B32: NPV GHG reduction from green infrastructure cooling and sequestration ($) | D32: Public | J32: =IFERROR(K32/'Social Infrastructure'!$B$85,0) -> 0 | K32: =L32/40 -> 0 | L32: =NPV('Social Infrastructure'!$C$79,M24:AZ24) -> 0
B33: NPV Urban cooling health benefit ($) | D33: Public | J33: =IFERROR(K33/'Social Infrastructure'!$B$85,0) -> 0 | K33: =L33/40 -> 0 | L33: =NPV('Social Infrastructure'!$C$79,M21:AZ21) -> 0
B34: NPV Clean air benefit ($) | D34: Public | J34: =IFERROR(K34/'Social Infrastructure'!$B$85,0) -> 0 | K34: =L34/40 -> 0 | L34: =NPV('Social Infrastructure'!$C$79,M16:AZ16) -> 0
B35: NPV Total environmental and energy benefit ($) | D35: Public | J35: =IFERROR(K35/'Social Infrastructure'!$B$85,0) -> 0 | K35: =L35/40 -> 0 | L35: =NPV('Social Infrastructure'!$C$79,M26:AZ26) -> 0
B37: Combined housing development, environmental and local amenity inputs ($) | D37: Combined | J37: =IFERROR(K37/'Social Infrastructure'!$B$85,0) -> 0 | K37: =AVERAGE(M37:AZ37) -> 0 | L37: =SUM(M37:AZ37) -> 0 | M37: =M6+M26 -> 0 | N37: =N6+N26 -> 0 | O37: =O6+O26 -> 0 | P37: =P6+P26 -> 0 | Q37: =Q6+Q26 -> 0 | R37: =R6+R26 -> 0 | S37: =S6+S26 -> 0 | T37: =T6+T26 -> 0 | ... AZ37: =AZ6+AZ26 -> 0
B38: NPV combined housing development, envionrmental and local amenity inputs ($) | D38: Combined | J38: =IFERROR(K38/'Social Infrastructure'!$B$85,0) -> 0 | K38: =L38/40 -> 0 | L38: =NPV('Social Infrastructure'!$C$79,M37:AZ37) -> 0
B40: COMBINED COST OF LIVING RELIEF, NOMINAL ($)
B41: Combined energy expenditure reduction ($) | D41: Private | J41: =IFERROR(K41/'Social Infrastructure'!$B$85,) -> 0 | K41: =AVERAGE(M41:AZ41) -> 0 | L41: =SUM(M41:AZ41) -> 0 | M41: =IF('Green Infrastructure'!M47>0,'Energy and carbon'!M63,'Energy and carbon'!M27) -> 0 | N41: =IF('Green Infrastructure'!N47>0,'Energy and carbon'!N63,'Energy and carbon'!N27) -> 0 | O41: =IF('Green Infrastructure'!O47>0,'Energy and carbon'!O63,'Energy and carbon'!O27) -> 0 | P41: =IF('Green Infrastructure'!P47>0,'Energy and carbon'!P63,'Energy and carbon'!P27) -> 0 | Q41: =IF('Green Infrastructure'!Q47>0,'Energy and carbon'!Q63,'Energy and carbon'!Q27) -> 0 | R41: =IF('Green Infrastructure'!R47>0,'Energy and carbon'!R63,'Energy and carbon'!R27) -> 0 | S41: =IF('Green Infrastructure'!S47>0,'Energy and carbon'!S63,'Energy and carbon'!S27) -> 0 | T41: =IF('Green Infrastructure'!T47>0,'Energy and carbon'!T63,'Energy and carbon'!T27) -> 0 | ... AZ41: =IF('Green Infrastructure'!AZ47>0,'Energy and carbon'!AZ63,'Energy and carbon'!AZ27) -> 0
B42: Nominal rental reduction ($) | D42: Private | J42: =IFERROR(K42/'Social Infrastructure'!$B$85,) -> 0 | K42: =AVERAGE(M42:AZ42) -> 0 | L42: =SUM(M42:AZ42) -> 0 | M42: ='Social Infrastructure'!$X$98 -> 0 | N42: =M42*(1+'Green+Social Interface'!$I$35) -> 0 | O42: =N42*(1+'Green+Social Interface'!$I$35) -> 0 | P42: =O42*(1+'Green+Social Interface'!$I$35) -> 0 | Q42: =P42*(1+'Green+Social Interface'!$I$35) -> 0 | R42: =Q42*(1+'Green+Social Interface'!$I$35) -> 0 | S42: =R42*(1+'Green+Social Interface'!$I$35) -> 0 | T42: =S42*(1+'Green+Social Interface'!$I$35) -> 0 | U42: =T42*(1+'Green+Social Interface'!$I$35) -> 0 | ... AZ42: =AY42*(1+'Green+Social Interface'!$I$35) -> 0
B43: Combined cost of living relief, nominal ($) | D43: Private | J43: =IFERROR(K43/'Social Infrastructure'!$B$85,0) -> 0 | K43: =AVERAGE(M43:AZ43) -> 0 | L43: =SUM(M43:AZ43) -> 0 | M43: =M41+M42 -> 0 | N43: =N41+N42 -> 0 | O43: =O41+O42 -> 0 | P43: =P41+P42 -> 0 | Q43: =Q41+Q42 -> 0 | R43: =R41+R42 -> 0 | S43: =S41+S42 -> 0 | T43: =T41+T42 -> 0 | ... AZ43: =AZ41+AZ42 -> 0
B44: NPV Energy expenditure ($) | D44: Private | J44: =IFERROR(K44/'Social Infrastructure'!$B$85,) -> 0 | K44: =L44/40 -> 0 | L44: =NPV('Social Infrastructure'!$C$79,M41:AZ41) -> 0
B45: NPV Combined cost of living relief, nominal ($) | D45: Privte | J45: =IFERROR(K45/'Social Infrastructure'!$B$85,0) -> 0 | K45: =L45/40 -> 0 | L45: =NPV('Social Infrastructure'!$C$79,M43:AZ43) -> 0

Sheet Social Infrastructure
B1: Housing Infrastructure Funding
B2: Wider social and economic benefits | M2: 15
F3: Inflation adjusted to base year | H3: Year | I3: 0 | N3: 1 | O3: 2 | P3: 3 | Q3: 4 | R3: 5 | S3: 6 | T3: 7 | U3: 8 | V3: 9 | W3: 10 | X3: 11 | Y3: 12 | Z3: 13 | AA3: 14 | AB3: 15 | AC3: 16 | AD3: 17 | AE3: 18 | AF3: 19 | AG3: 20 | AH3: 21 | AI3: 22 | AJ3: 23 | AK3: 24 | AL3: 25 | AM3: 26 | AN3: 27 | AO3: 28 | AP3: 29 | AQ3: 30 | AR3: 31 | AS3: 32 | AT3: 33 | AU3: 34 | AV3: 35 | AW3: 36 | AX3: 37 | AY3: 38 | AZ3: 39 | BA3: 40
B4: Category | C4: Tenant | D4: Beneficiary | E4: Benefit p.p | F4: Benefit p.p | G4: Impact ratio | H4: Number of HH | I4: Turnover or vacancy | K4: Average per dwell, 40 years | L4: Average 40 years | M4: Total | N4: Yr 1 | O4: Yr 2 | P4: Yr 3 | Q4: Yr 4 | R4: Yr 5 | S4: Yr 6 | T4: Yr 7 | U4: Yr 8 | V4: Yr 9 | W4: Yr 10 | X4: Yr 11 | Y4: Yr 12 | Z4: Yr 13 | AA4: Yr 14 | AB4: Yr 15 | AC4: Yr 16 | AD4: Yr 17 | AE4: Yr 18 | AF4: Yr 19 | AG4: Yr 20 | AH4: Yr 21 | AI4: Yr 22 | AJ4: Yr 23 | AK4: Yr 24 | AL4: Yr 25 | AM4: Yr 26 | AN4: Yr 27 | AO4: Yr 28 | AP4: Yr 29 | AQ4: Yr 30 | AR4: Yr 31 | AS4: Yr 32 | AT4: Yr 33 | AU4: Yr 34 | AV4: Yr 35 | AW4: Yr 36 | AX4: Yr 37 | AY4: Yr 38 | AZ4: Yr 39 | BA4: Yr 40
B5: Cash benefits
B6: Housing | C6: Flatau et al homelessness to social hse, net/no program | D6: Public | E6: 1585.08 | F6: =E6*VLOOKUP('Green+Social Interface'!$I$38,'Look-ups'!$A$15:$B$43,2,0) -> 1696.0356 | G6: 0.5 | I6: ='Green+Social Interface'!$O$6 -> 0.07 | K6: =IF(AND(L6>0,$B$85>0),L6/$B$85,0) -> 0 | L6: =AVERAGE(N6:BA6) -> 0 | M6: =SUM(N6:BA6) -> 0 | N6: =H6*G6*E6 -> 0 | O6: =N6*(1+'Green+Social Interface'!$I$35) -> 0 | P6: =O6*(1+'Green+Social Interface'!$I$35) -> 0 | Q6: =P6*(1+'Green+Social Interface'!$I$35) -> 0 | R6: =Q6*(1+'Green+Social Interface'!$I$35) -> 0 | S6: =R6*(1+'Green+Social Interface'!$I$35) -> 0 | T6: =S6*(1+'Green+Social Interface'!$I$35) -> 0 | U6: =T6*(1+'Green+Social Interface'!$I$35) -> 0 | V6: =U6*(1+'Green+Social Interface'!$I$35) -> 0 | ... BA6: =AZ6*(1+'Green+Social Interface'!$I$35) -> 0
C7: ASVB homlessness to social hse | D7: Public | E7: 12370 | F7: =E7*VLOOKUP('Green+Social Interface'!$I$38,'Look-ups'!$A$15:$B$43,2,0) -> 13235.9 | G7: 0.8 | H7: ='Green+Social Interface'!$E$6+'Green+Social Interface'!$F$6 -> 0 | I7: ='Green+Social Interface'!$O$6 -> 0.07 | K7: =IF(AND(L7>0,$B$85>0),L7/$B$85,0) -> 0 | L7: =AVERAGE(N7:BA7) -> 0 | M7: =SUM(N7:BA7) -> 0 | N7: =IF('Green+Social Interface'!$J$6="Yes",'Social Infrastructure'!F7*'Social Infrastructure'!G7*'Social Infrastructure'!H7,'Social Infrastructure'!F6*'Social Infrastructure'!G6*'Social Infrastructure'!H7) -> 0 | O7: =N7*(1+'Green+Social Interface'!$I$35) -> 0 | P7: =O7*(1+'Green+Social Interface'!$I$35) -> 0 | Q7: =P7*(1+'Green+Social Interface'!$I$35) -> 0 | R7: =Q7*(1+'Green+Social Interface'!$I$35) -> 0 | S7: =R7*(1+'Green+Social Interface'!$I$35) -> 0 | T7: =S7*(1+'Green+Social Interface'!$I$35) -> 0 | U7: =T7*(1+'Green+Social Interface'!$I$35) -> 0 | V7: =U7*(1+'Green+Social Interface'!$I$35) -> 0 | ... BA7: =AZ7*(1+'Green+Social Interface'!$I$35) -> 0
C8: ASVB temporary to social | D8: Public | E8: 5700 | F8: =E8*VLOOKUP('Green+Social Interface'!$I$38,'Look-ups'!$A$15:$B$43,2,0) -> 6099 | G8: 0.8 | H8: ='Green+Social Interface'!$E$7+'Green+Social Interface'!$F$7 -> 0 | I8: ='Green+Social Interface'!$O$6 -> 0.07 | K8: =IF(AND(L8>0,$B$85>0),L8/$B$85,0) -> 0 | L8: =AVERAGE(N8:BA8) -> 0 | M8: =SUM(N8:BA8) -> 0 | N8: =IF('Green+Social Interface'!$J$7="Yes",'Social Infrastructure'!F8*'Social Infrastructure'!G8*'Social Infrastructure'!H8,'Social Infrastructure'!$F$6*'Social Infrastructure'!$G$6*'Social Infrastructure'!H8) -> 0 | O8: =N8*(1+'Green+Social Interface'!$I$35) -> 0 | P8: =O8*(1+'Green+Social Interface'!$I$35) -> 0 | Q8: =P8*(1+'Green+Social Interface'!$I$35) -> 0 | R8: =Q8*(1+'Green+Social Interface'!$I$35) -> 0 | S8: =R8*(1+'Green+Social Interface'!$I$35) -> 0 | T8: =S8*(1+'Green+Social Interface'!$I$35) -> 0 | U8: =T8*(1+'Green+Social Interface'!$I$35) -> 0 | V8: =U8*(1+'Green+Social Interface'!$I$35) -> 0 | ... BA8: =AZ8*(1+'Green+Social Interface'!$I$35) -> 0
C9: ASVB disability homlessness to social | D9: Public | E9: 4722 | F9: =E9*VLOOKUP('Green+Social Interface'!$I$38,'Look-ups'!$A$15:$B$43,2,0) -> 5052.54 | G9: 0.8 | H9: ='Green+Social Interface'!$E$8+'Green+Social Interface'!$F$8 -> 0 | I9: ='Green+Social Interface'!$O$6 -> 0.07 | K9: =IF(AND(L9>0,$B$85>0),L9/$B$85,0) -> 0 | L9: =AVERAGE(N9:BA9) -> 0 | M9: =SUM(N9:BA9) -> 0 | N9: =IF('Green+Social Interface'!J6="Yes",'Social Infrastructure'!F9*'Social Infrastructure'!G9*'Social Infrastructure'!H9,'Social Infrastructure'!$F$6*'Social Infrastructure'!$G$6*'Social Infrastructure'!H9) -> 0 | O9: =N9*(1+'Green+Social Interface'!$I$35) -> 0 | P9: =O9*(1+'Green+Social Interface'!$I$35) -> 0 | Q9: =P9*(1+'Green+Social Interface'!$I$35) -> 0 | R9: =Q9*(1+'Green+Social Interface'!$I$35) -> 0 | S9: =R9*(1+'Green+Social Interface'!$I$35) -> 0 | T9: =S9*(1+'Green+Social Interface'!$I$35) -> 0 | U9: =T9*(1+'Green+Social Interface'!$I$35) -> 0 | V9: =U9*(1+'Green+Social Interface'!$I$35) -> 0 | ... BA9: =AZ9*(1+'Green+Social Interface'!$I$35) -> 0
C10: ASVB disability temporary to social | D10: Public | E10: 1914 | F10: =E10*VLOOKUP('Green+Social Interface'!$I$38,'Look-ups'!$A$15:$B$43,2,0) -> 2047.98 | G10: 0.8 | H10: ='Green+Social Interface'!$E$9+'Green+Social Interface'!$F$9 -> 0 | I10: ='Green+Social Interface'!$O$6 -> 0.07 | K10: =IF(AND(L10>0,$B$85>0),L10/$B$85,0) -> 0 | L10: =AVERAGE(N10:BA10) -> 0 | M10: =SUM(N10:BA10) -> 0 | N10: =IF('Green+Social Interface'!J7="Yes",'Social Infrastructure'!F10*'Social Infrastructure'!G10*'Social Infrastructure'!H10,'Social Infrastructure'!$F$10*'Social Infrastructure'!$G$6*'Social Infrastructure'!H10) -> 0 | O10: =N10*(1+'Green+Social Interface'!$I$35) -> 0 | P10: =O10*(1+'Green+Social Interface'!$I$35) -> 0 | Q10: =P10*(1+'Green+Social Interface'!$I$35) -> 0 | R10: =Q10*(1+'Green+Social Interface'!$I$35) -> 0 | S10: =R10*(1+'Green+Social Interface'!$I$35) -> 0 | T10: =S10*(1+'Green+Social Interface'!$I$35) -> 0 | U10: =T10*(1+'Green+Social Interface'!$I$35) -> 0 | V10: =U10*(1+'Green+Social Interface'!$I$35) -> 0 | ... BA10: =AZ10*(1+'Green+Social Interface'!$I$35) -> 0
C11: Prison release | D11: Public | E11: -3360 | F11: =E11*VLOOKUP('Green+Social Interface'!$I$38,'Look-ups'!$A$15:$B$43,2,0) -> -3595.2 | G11: 1 | H11: ='Green+Social Interface'!$E$11++'Green+Social Interface'!$F$11 -> 0 | I11: ='Green+Social Interface'!$O$6 -> 0.07 | K11: =IF(AND(L11>0,$B$85>0),L11/$B$85,0) -> 0 | L11: =AVERAGE(N11:BA11) -> 0 | M11: =SUM(N11:BA11) -> 0 | N11: =H11*G11*F11 -> 0 | O11: =IF(O$3<5,N11*(1+$Q$107)+($G11*$H11*2340)*VLOOKUP('Green+Social Interface'!$I$38,'Look-ups'!$A$15:$B$43,2,0)*(1-$I11)^(O$3-1)*(1+$Q$107)^(O$3-1),N11*(1+$Q$107)) -> 0 | P11: =IF(P$3<5,O11*(1+$Q$107)+($G11*$H11*2340)*VLOOKUP('Green+Social Interface'!$I$38,'Look-ups'!$A$15:$B$43,2,0)*(1-$I11)^(P$3-1)*(1+$Q$107)^(P$3-1),O11*(1+$Q$107)) -> 0 | Q11: =IF(Q$3<5,P11*(1+$Q$107)+($G11*$H11*2340)*VLOOKUP('Green+Social Interface'!$I$38,'Look-ups'!$A$15:$B$43,2,0)*(1-$I11)^(Q$3-1)*(1+$Q$107)^(Q$3-1),P11*(1+$Q$107)) -> 0 | R11: =IF(R$3<5,Q11*(1+$Q$107)+($G11*$H11*2340)*VLOOKUP('Green+Social Interface'!$I$38,'Look-ups'!$A$15:$B$43,2,0)*(1-$I11)^(R$3-1)*(1+$Q$107)^(R$3-1),Q11*(1+$Q$107)) -> 0 | S11: =IF(S$3<5,R11*(1+$Q$107)+($G11*$H11*2340)*VLOOKUP('Green+Social Interface'!$I$38,'Look-ups'!$A$15:$B$43,2,0)*(1-$I11)^(S$3-1)*(1+$Q$107)^(S$3-1),R11*(1+$Q$107)) -> 0 | T11: =IF(T$3<5,S11*(1+$Q$107)+($G11*$H11*2340)*VLOOKUP('Green+Social Interface'!$I$38,'Look-ups'!$A$15:$B$43,2,0)*(1-$I11)^(T$3-1)*(1+$Q$107)^(T$3-1),S11*(1+$Q$107)) -> 0 | U11: =IF(U$3<5,T11*(1+$Q$107)+($G11*$H11*2340)*VLOOKUP('Green+Social Interface'!$I$38,'Look-ups'!$A$15:$B$43,2,0)*(1-$I11)^(U$3-1)*(1+$Q$107)^(U$3-1),T11*(1+$Q$107)) -> 0 | V11: =IF(V$3<5,U11*(1+$Q$107)+($G11*$H11*2340)*VLOOKUP('Green+Social Interface'!$I$38,'Look-ups'!$A$15:$B$43,2,0)*(1-$I11)^(V$3-1)*(1+$Q$107)^(V$3-1),U11*(1+$Q$107)) -> 0 | ... BA11: =IF(BA$3<5,AZ11*(1+$Q$107)+($G11*$H11*2340)*VLOOKUP('Green+Social Interface'!$I$38,'Look-ups'!$A$15:$B$43,2,0)*(1-$I11)^(BA$3-1)*(1+$Q$107)^(BA$3-1),AZ11*(1+$Q$107)) -> 0
B12: Household finances | C12: Affordable rent | I12: ='Green+Social Interface'!$O$6 -> 0.07
A13: Aff | B13: Apartment style | C13: Studio | D13: Private | E13: =IF('Green+Social Interface'!I18>0,(0.535*(Q87-(Q87*$Q$103))*52)-(0.375*(Q87-(Q87*$Q$103))*52),0) -> 0 | F13: =E13*VLOOKUP('Green+Social Interface'!$I$38,'Look-ups'!$A$15:$B$43,2,0) -> 0 | G13: 1 | H13: =IF(H143>0,'Green+Social Interface'!$I$18*(1-($H$137/$H$143)),0) -> 0 | I13: =1-('Green+Social Interface'!$O$11) -> 0.975 | K13: =IF(AND(L13>0,$B$85>0),L13/$B$85,0) -> 0 | L13: =AVERAGE(N13:BA13) -> 0 | M13: =SUM(N13:BA13) -> 0 | N13: =H13*G13*F13*I13 -> 0 | O13: =N13*(1+'Green+Social Interface'!$I$35) -> 0 | P13: =O13*(1+'Green+Social Interface'!$I$35) -> 0 | Q13: =P13*(1+'Green+Social Interface'!$I$35) -> 0 | R13: =Q13*(1+'Green+Social Interface'!$I$35) -> 0 | S13: =R13*(1+'Green+Social Interface'!$I$35) -> 0 | T13: =S13*(1+'Green+Social Interface'!$I$35) -> 0 | U13: =T13*(1+'Green+Social Interface'!$I$35) -> 0 | V13: =U13*(1+'Green+Social Interface'!$I$35) -> 0 | ... BA13: =AZ13*(1+'Green+Social Interface'!$I$35) -> 0
C14: 1-bed | D14: Private | E14: =IF('Green+Social Interface'!I19>0,(0.535*(Q88-(Q88*$Q$103))*52)-(0.375*(Q88-(Q88*$Q$103))*52),0) -> 0 | F14: =E14*VLOOKUP('Green+Social Interface'!$I$38,'Look-ups'!$A$15:$B$43,2,0) -> 0 | G14: 1 | H14: =IF(H143>0,'Green+Social Interface'!$I$19*(1-($H$137/$H$143)),0) -> 0 | I14: =1-('Green+Social Interface'!$O$11) -> 0.975 | K14: =IF(AND(L14>0,$B$85>0),L14/$B$85,0) -> 0 | L14: =AVERAGE(N14:BA14) -> 0 | M14: =SUM(N14:BA14) -> 0 | N14: =H14*G14*F14*I14 -> 0 | O14: =N14*(1+'Green+Social Interface'!$I$35) -> 0 | P14: =O14*(1+'Green+Social Interface'!$I$35) -> 0 | Q14: =P14*(1+'Green+Social Interface'!$I$35) -> 0 | R14: =Q14*(1+'Green+Social Interface'!$I$35) -> 0 | S14: =R14*(1+'Green+Social Interface'!$I$35) -> 0 | T14: =S14*(1+'Green+Social Interface'!$I$35) -> 0 | U14: =T14*(1+'Green+Social Interface'!$I$35) -> 0 | V14: =U14*(1+'Green+Social Interface'!$I$35) -> 0 | ... BA14: =AZ14*(1+'Green+Social Interface'!$I$35) -> 0
C15: 2-bed | D15: Private | E15: =IF('Green+Social Interface'!I20>0,(0.535*(Q89-(Q89*$Q$103))*52)-(0.375*(Q89-(Q89*$Q$103))*52),0) -> 0 | F15: =E15*VLOOKUP('Green+Social Interface'!$I$38,'Look-ups'!$A$15:$B$43,2,0) -> 0 | G15: 1 | H15: =IF(H143>0,'Green+Social Interface'!$I$20*(1-($H$137/$H$143)),0) -> 0 | I15: =1-('Green+Social Interface'!$O$11) -> 0.975 | K15: =IF(AND(L15>0,$B$85>0),L15/$B$85,0) -> 0 | L15: =AVERAGE(N15:BA15) -> 0 | M15: =SUM(N15:BA15) -> 0 | N15: =H15*G15*F15*I15 -> 0 | O15: =N15*(1+'Green+Social Interface'!$I$35) -> 0 | P15: =O15*(1+'Green+Social Interface'!$I$35) -> 0 | Q15: =P15*(1+'Green+Social Interface'!$I$35) -> 0 | R15: =Q15*(1+'Green+Social Interface'!$I$35) -> 0 | S15: =R15*(1+'Green+Social Interface'!$I$35) -> 0 | T15: =S15*(1+'Green+Social Interface'!$I$35) -> 0 | U15: =T15*(1+'Green+Social Interface'!$I$35) -> 0 | V15: =U15*(1+'Green+Social Interface'!$I$35) -> 0 | ... BA15: =AZ15*(1+'Green+Social Interface'!$I$35) -> 0
C16: 3-bed | D16: Private | E16: =IF('Green+Social Interface'!I21>0,(0.535*(Q90-(Q90*$Q$103))*52)-(0.375*(Q90-(Q90*$Q$103))*52),0) -> 0 | F16: =E16*VLOOKUP('Green+Social Interface'!$I$38,'Look-ups'!$A$15:$B$43,2,0) -> 0 | G16: 1 | H16: =IF(H143>0,'Green+Social Interface'!$I$21*(1-($H$137/$H$143)),0) -> 0 | I16: =1-('Green+Social Interface'!$O$11) -> 0.975 | K16: =IF(AND(L16>0,$B$85>0),L16/$B$85,0) -> 0 | L16: =AVERAGE(N16:BA16) -> 0 | M16: =SUM(N16:BA16) -> 0 | N16: =H16*G16*F16*I16 -> 0 | O16: =N16*(1+'Green+Social Interface'!$I$35) -> 0 | P16: =O16*(1+'Green+Social Interface'!$I$35) -> 0 | Q16: =P16*(1+'Green+Social Interface'!$I$35) -> 0 | R16: =Q16*(1+'Green+Social Interface'!$I$35) -> 0 | S16: =R16*(1+'Green+Social Interface'!$I$35) -> 0 | T16: =S16*(1+'Green+Social Interface'!$I$35) -> 0 | U16: =T16*(1+'Green+Social Interface'!$I$35) -> 0 | V16: =U16*(1+'Green+Social Interface'!$I$35) -> 0 | ... BA16: =AZ16*(1+'Green+Social Interface'!$I$35) -> 0
C17: 4-bed | D17: Private | E17: =IF('Green+Social Interface'!I22>0,(0.535*(Q91-(Q91*$Q$103))*52)-(0.375*(Q91-(Q91*$Q$103))*52),0) -> 0 | F17: =E17*VLOOKUP('Green+Social Interface'!$I$38,'Look-ups'!$A$15:$B$43,2,0) -> 0 | G17: 1 | H17: =IF(H143>0,'Green+Social Interface'!$I$22*(1-($H$137/$H$143)),0) -> 0 | I17: =1-('Green+Social Interface'!$O$11) -> 0.975 | K17: =IF(AND(L17>0,$B$85>0),L17/$B$85,0) -> 0 | L17: =AVERAGE(N17:BA17) -> 0 | M17: =SUM(N17:BA17) -> 0 | N17: =H17*G17*F17*I17 -> 0 | O17: =N17*(1+'Green+Social Interface'!$I$35) -> 0 | P17: =O17*(1+'Green+Social Interface'!$I$35) -> 0 | Q17: =P17*(1+'Green+Social Interface'!$I$35) -> 0 | R17: =Q17*(1+'Green+Social Interface'!$I$35) -> 0 | S17: =R17*(1+'Green+Social Interface'!$I$35) -> 0 | T17: =S17*(1+'Green+Social Interface'!$I$35) -> 0 | U17: =T17*(1+'Green+Social Interface'!$I$35) -> 0 | V17: =U17*(1+'Green+Social Interface'!$I$35) -> 0 | ... BA17: =AZ17*(1+'Green+Social Interface'!$I$35) -> 0
A18: Aff | B18: House | C18: 1-bed | D18: Private | E18: =IF('Green+Social Interface'!D18>0,(0.535*(Q93-(Q93*$Q$103))*52)-(0.375*(Q93-(Q93*$Q$103))*52),0) -> 0 | F18: =E18*VLOOKUP('Green+Social Interface'!$I$38,'Look-ups'!$A$15:$B$43,2,0) -> 0 | G18: 1 | H18: =IF(H143>0,'Green+Social Interface'!$D$18*(1-($H$137/$H$143)),0) -> 0 | I18: =1-('Green+Social Interface'!$O$11) -> 0.975 | K18: =IF(AND(L18>0,$B$85>0),L18/$B$85,0) -> 0 | L18: =AVERAGE(N18:BA18) -> 0 | M18: =SUM(N18:BA18) -> 0 | N18: =H18*G18*F18*I18 -> 0 | O18: =N18*(1+'Green+Social Interface'!$I$35) -> 0 | P18: =O18*(1+'Green+Social Interface'!$I$35) -> 0 | Q18: =P18*(1+'Green+Social Interface'!$I$35) -> 0 | R18: =Q18*(1+'Green+Social Interface'!$I$35) -> 0 | S18: =R18*(1+'Green+Social Interface'!$I$35) -> 0 | T18: =S18*(1+'Green+Social Interface'!$I$35) -> 0 | U18: =T18*(1+'Green+Social Interface'!$I$35) -> 0 | V18: =U18*(1+'Green+Social Interface'!$I$35) -> 0 | ... BA18: =AZ18*(1+'Green+Social Interface'!$I$35) -> 0 | BB18: *
C19: 2-bed | D19: Private | E19: =IF('Green+Social Interface'!D19>0,(0.535*(Q94-(Q94*$Q$103))*52)-(0.375*(Q94-(Q94*$Q$103))*52),0) -> 0 | F19: =E19*VLOOKUP('Green+Social Interface'!$I$38,'Look-ups'!$A$15:$B$43,2,0) -> 0 | G19: 1 | H19: =IF(H143>0,'Green+Social Interface'!$D$19*(1-($H$137/$H$143)),0) -> 0 | I19: =1-('Green+Social Interface'!$O$11) -> 0.975 | K19: =IF(AND(L19>0,$B$85>0),L19/$B$85,0) -> 0 | L19: =AVERAGE(N19:BA19) -> 0 | M19: =SUM(N19:BA19) -> 0 | N19: =H19*G19*F19*I19 -> 0 | O19: =N19*(1+'Green+Social Interface'!$I$35) -> 0 | P19: =O19*(1+'Green+Social Interface'!$I$35) -> 0 | Q19: =P19*(1+'Green+Social Interface'!$I$35) -> 0 | R19: =Q19*(1+'Green+Social Interface'!$I$35) -> 0 | S19: =R19*(1+'Green+Social Interface'!$I$35) -> 0 | T19: =S19*(1+'Green+Social Interface'!$I$35) -> 0 | U19: =T19*(1+'Green+Social Interface'!$I$35) -> 0 | V19: =U19*(1+'Green+Social Interface'!$I$35) -> 0 | ... BA19: =AZ19*(1+'Green+Social Interface'!$I$35) -> 0
C20: 3-bed | D20: Private | E20: =IF('Green+Social Interface'!D20>0,(0.535*(Q95-(Q95*$Q$103))*52)-(0.375*(Q95-(Q95*$Q$103))*52),0) -> 0 | F20: =E20*VLOOKUP('Green+Social Interface'!$I$38,'Look-ups'!$A$15:$B$43,2,0) -> 0 | G20: 1 | H20: =IF(H143>0,'Green+Social Interface'!$D$20*(1-($H$137/$H$143)),0) -> 0 | I20: =1-('Green+Social Interface'!$O$11) -> 0.975 | K20: =IF(AND(L20>0,$B$85>0),L20/$B$85,0) -> 0 | L20: =AVERAGE(N20:BA20) -> 0 | M20: =SUM(N20:BA20) -> 0 | N20: =H20*G20*F20*I20 -> 0 | O20: =N20*(1+'Green+Social Interface'!$I$35) -> 0 | P20: =O20*(1+'Green+Social Interface'!$I$35) -> 0 | Q20: =P20*(1+'Green+Social Interface'!$I$35) -> 0 | R20: =Q20*(1+'Green+Social Interface'!$I$35) -> 0 | S20: =R20*(1+'Green+Social Interface'!$I$35) -> 0 | T20: =S20*(1+'Green+Social Interface'!$I$35) -> 0 | U20: =T20*(1+'Green+Social Interface'!$I$35) -> 0 | V20: =U20*(1+'Green+Social Interface'!$I$35) -> 0 | ... BA20: =AZ20*(1+'Green+Social Interface'!$I$35) -> 0
C21: 4-bed | D21: Private | E21: =IF('Green+Social Interface'!D21>0,(0.535*(Q96-(Q96*$Q$103))*52)-(0.375*(Q96-(Q96*$Q$103))*52),0) -> 0 | F21: =E21*VLOOKUP('Green+Social Interface'!$I$38,'Look-ups'!$A$15:$B$43,2,0) -> 0 | G21: 1 | H21: =IF(H143>0,'Green+Social Interface'!$D$21*(1-($H$137/$H$143)),0) -> 0 | I21: =1-('Green+Social Interface'!$O$11) -> 0.975 | K21: =IF(AND(L21>0,$B$85>0),L21/$B$85,0) -> 0 | L21: =AVERAGE(N21:BA21) -> 0 | M21: =SUM(N21:BA21) -> 0 | N21: =H21*G21*F21*I21 -> 0 | O21: =N21*(1+'Green+Social Interface'!$I$35) -> 0 | P21: =O21*(1+'Green+Social Interface'!$I$35) -> 0 | Q21: =P21*(1+'Green+Social Interface'!$I$35) -> 0 | R21: =Q21*(1+'Green+Social Interface'!$I$35) -> 0 | S21: =R21*(1+'Green+Social Interface'!$I$35) -> 0 | T21: =S21*(1+'Green+Social Interface'!$I$35) -> 0 | U21: =T21*(1+'Green+Social Interface'!$I$35) -> 0 | V21: =U21*(1+'Green+Social Interface'!$I$35) -> 0 | ... BA21: =AZ21*(1+'Green+Social Interface'!$I$35) -> 0
C22: 5-bed | D22: Private | E22: =IF('Green+Social Interface'!D22>0,(0.535*(Q97-(Q97*$Q$103))*52)-(0.375*(Q97-(Q97*$Q$103))*52),0) -> 0 | F22: =E22*VLOOKUP('Green+Social Interface'!$I$38,'Look-ups'!$A$15:$B$43,2,0) -> 0 | G22: 1 | H22: =IF(H143>0,'Green+Social Interface'!$D$22*(1-($H$137/$H$143)),0) -> 0 | I22: =1-('Green+Social Interface'!$O$11) -> 0.975 | K22: =IF(AND(L22>0,$B$85>0),L22/$B$85,0) -> 0 | L22: =AVERAGE(N22:BA22) -> 0 | M22: =SUM(N22:BA22) -> 0 | N22: =H22*G22*F22*I22 -> 0 | O22: =N22*(1+'Green+Social Interface'!$I$35) -> 0 | P22: =O22*(1+'Green+Social Interface'!$I$35) -> 0 | Q22: =P22*(1+'Green+Social Interface'!$I$35) -> 0 | R22: =Q22*(1+'Green+Social Interface'!$I$35) -> 0 | S22: =R22*(1+'Green+Social Interface'!$I$35) -> 0 | T22: =S22*(1+'Green+Social Interface'!$I$35) -> 0 | U22: =T22*(1+'Green+Social Interface'!$I$35) -> 0 | V22: =U22*(1+'Green+Social Interface'!$I$35) -> 0 | ... BA22: =AZ22*(1+'Green+Social Interface'!$I$35) -> 0
A23: Social | B23: Apartment style | C23: Studio | D23: Private | E23: =IF('Green+Social Interface'!T18>0,(0.535*(Q87-(S87))*52)-(0.375*(Q87-(S87))*52),0) -> 0 | F23: =E23*VLOOKUP('Green+Social Interface'!$I$38,'Look-ups'!$A$15:$B$43,2,0) -> 0 | G23: 0.3 | H23: =IF(H142>0,'Green+Social Interface'!$T$18*(1-($H$136/$H$142)),0) -> 0 | I23: =1-('Green+Social Interface'!$O$11) -> 0.975 | K23: =IF(AND(L23>0,$B$85>0),L23/$B$85,0) -> 0 | L23: =AVERAGE(N23:BA23) -> 0 | M23: =SUM(N23:BA23) -> 0 | N23: =H23*G23*F23*I23 -> 0 | O23: =N23*(1+'Green+Social Interface'!$I$35) -> 0 | P23: =O23*(1+'Green+Social Interface'!$I$35) -> 0 | Q23: =P23*(1+'Green+Social Interface'!$I$35) -> 0 | R23: =Q23*(1+'Green+Social Interface'!$I$35) -> 0 | S23: =R23*(1+'Green+Social Interface'!$I$35) -> 0 | T23: =S23*(1+'Green+Social Interface'!$I$35) -> 0 | U23: =T23*(1+'Green+Social Interface'!$I$35) -> 0 | V23: =U23*(1+'Green+Social Interface'!$I$35) -> 0 | ... BA23: =AZ23*(1+'Green+Social Interface'!$I$35) -> 0
C24: 1-bed | D24: Private | E24: =IF('Green+Social Interface'!T19>0,(0.535*(Q88-(S88))*52)-(0.375*(Q88-(S88))*52),0) -> 0 | F24: =E24*VLOOKUP('Green+Social Interface'!$I$38,'Look-ups'!$A$15:$B$43,2,0) -> 0 | G24: 0.3 | H24: =IF(H142>0,'Green+Social Interface'!$T$19*(1-($H$136/$H$142)),0) -> 0 | I24: =1-('Green+Social Interface'!$O$11) -> 0.975 | K24: =IF(AND(L24>0,$B$85>0),L24/$B$85,0) -> 0 | L24: =AVERAGE(N24:BA24) -> 0 | M24: =SUM(N24:BA24) -> 0 | N24: =H24*G24*F24*I24 -> 0 | O24: =N24*(1+'Green+Social Interface'!$I$35) -> 0 | P24: =O24*(1+'Green+Social Interface'!$I$35) -> 0 | Q24: =P24*(1+'Green+Social Interface'!$I$35) -> 0 | R24: =Q24*(1+'Green+Social Interface'!$I$35) -> 0 | S24: =R24*(1+'Green+Social Interface'!$I$35) -> 0 | T24: =S24*(1+'Green+Social Interface'!$I$35) -> 0 | U24: =T24*(1+'Green+Social Interface'!$I$35) -> 0 | V24: =U24*(1+'Green+Social Interface'!$I$35) -> 0 | ... BA24: =AZ24*(1+'Green+Social Interface'!$I$35) -> 0
C25: 2-bed | D25: Private | E25: =IF('Green+Social Interface'!T20>0,(0.535*(Q89-(S89))*52)-(0.375*(Q89-(S89))*52),0) -> 0 | F25: =E25*VLOOKUP('Green+Social Interface'!$I$38,'Look-ups'!$A$15:$B$43,2,0) -> 0 | G25: 0.3 | H25: =IF(H142>0,'Green+Social Interface'!$T$20*(1-($H$136/$H$142)),0) -> 0 | I25: =1-('Green+Social Interface'!$O$11) -> 0.975 | K25: =IF(AND(L25>0,$B$85>0),L25/$B$85,0) -> 0 | L25: =AVERAGE(N25:BA25) -> 0 | M25: =SUM(N25:BA25) -> 0 | N25: =H25*G25*F25*I25 -> 0 | O25: =N25*(1+'Green+Social Interface'!$I$35) -> 0 | P25: =O25*(1+'Green+Social Interface'!$I$35) -> 0 | Q25: =P25*(1+'Green+Social Interface'!$I$35) -> 0 | R25: =Q25*(1+'Green+Social Interface'!$I$35) -> 0 | S25: =R25*(1+'Green+Social Interface'!$I$35) -> 0 | T25: =S25*(1+'Green+Social Interface'!$I$35) -> 0 | U25: =T25*(1+'Green+Social Interface'!$I$35) -> 0 | V25: =U25*(1+'Green+Social Interface'!$I$35) -> 0 | ... BA25: =AZ25*(1+'Green+Social Interface'!$I$35) -> 0
C26: 3-bed | D26: Private | E26: =IF('Green+Social Interface'!T21>0,(0.535*(Q90-(S90))*52)-(0.375*(Q90-(S90))*52),0) -> 0 | F26: =E26*VLOOKUP('Green+Social Interface'!$I$38,'Look-ups'!$A$15:$B$43,2,0) -> 0 | G26: 0.3 | H26: =IF(H142>0,'Green+Social Interface'!$T$21*(1-($H$136/$H$142)),0) -> 0 | I26: =1-('Green+Social Interface'!$O$11) -> 0.975 | K26: =IF(AND(L26>0,$B$85>0),L26/$B$85,0) -> 0 | L26: =AVERAGE(N26:BA26) -> 0 | M26: =SUM(N26:BA26) -> 0 | N26: =H26*G26*F26*I26 -> 0 | O26: =N26*(1+'Green+Social Interface'!$I$35) -> 0 | P26: =O26*(1+'Green+Social Interface'!$I$35) -> 0 | Q26: =P26*(1+'Green+Social Interface'!$I$35) -> 0 | R26: =Q26*(1+'Green+Social Interface'!$I$35) -> 0 | S26: =R26*(1+'Green+Social Interface'!$I$35) -> 0 | T26: =S26*(1+'Green+Social Interface'!$I$35) -> 0 | U26: =T26*(1+'Green+Social Interface'!$I$35) -> 0 | V26: =U26*(1+'Green+Social Interface'!$I$35) -> 0 | ... BA26: =AZ26*(1+'Green+Social Interface'!$I$35) -> 0
C27: 4-bed | D27: Private | E27: =IF('Green+Social Interface'!T22>0,(0.535*(Q91-(S91))*52)-(0.375*(Q91-(S91))*52),0) -> 0 | F27: =E27*VLOOKUP('Green+Social Interface'!$I$38,'Look-ups'!$A$15:$B$43,2,0) -> 0 | G27: 0.3 | H27: =IF(H142>0,'Green+Social Interface'!$T$22*(1-($H$136/$H$142)),0) -> 0 | I27: =1-('Green+Social Interface'!$O$11) -> 0.975 | K27: =IF(AND(L27>0,$B$85>0),L27/$B$85,0) -> 0 | L27: =AVERAGE(N27:BA27) -> 0 | M27: =SUM(N27:BA27) -> 0 | N27: =H27*G27*F27*I27 -> 0 | O27: =N27*(1+'Green+Social Interface'!$I$35) -> 0 | P27: =O27*(1+'Green+Social Interface'!$I$35) -> 0 | Q27: =P27*(1+'Green+Social Interface'!$I$35) -> 0 | R27: =Q27*(1+'Green+Social Interface'!$I$35) -> 0 | S27: =R27*(1+'Green+Social Interface'!$I$35) -> 0 | T27: =S27*(1+'Green+Social Interface'!$I$35) -> 0 | U27: =T27*(1+'Green+Social Interface'!$I$35) -> 0 | V27: =U27*(1+'Green+Social Interface'!$I$35) -> 0 | ... BA27: =AZ27*(1+'Green+Social Interface'!$I$35) -> 0
A28: Social | B28: House | C28: 1-bed | D28: Private | E28: =IF('Green+Social Interface'!O18>0,(0.535*(Q93-(S93))*52)-(0.375*(Q93-(S93))*52),0) -> 0 | F28: =E28*VLOOKUP('Green+Social Interface'!$I$38,'Look-ups'!$A$15:$B$43,2,0) -> 0 | G28: 0.3 | H28: =IF(H142>0,'Green+Social Interface'!$O$18*(1-($H$136/$H$142)),0) -> 0 | I28: =1-('Green+Social Interface'!$O$11) -> 0.975 | K28: =IF(AND(L28>0,$B$85>0),L28/$B$85,0) -> 0 | L28: =AVERAGE(N28:BA28) -> 0 | M28: =SUM(N28:BA28) -> 0 | N28: =H28*G28*F28*I28 -> 0 | O28: =N28*(1+'Green+Social Interface'!$I$35) -> 0 | P28: =O28*(1+'Green+Social Interface'!$I$35) -> 0 | Q28: =P28*(1+'Green+Social Interface'!$I$35) -> 0 | R28: =Q28*(1+'Green+Social Interface'!$I$35) -> 0 | S28: =R28*(1+'Green+Social Interface'!$I$35) -> 0 | T28: =S28*(1+'Green+Social Interface'!$I$35) -> 0 | U28: =T28*(1+'Green+Social Interface'!$I$35) -> 0 | V28: =U28*(1+'Green+Social Interface'!$I$35) -> 0 | ... BA28: =AZ28*(1+'Green+Social Interface'!$I$35) -> 0
C29: 2-bed | D29: Private | E29: =IF('Green+Social Interface'!O19>0,(0.535*(Q94-(S94))*52)-(0.375*(Q94-(S94))*52),0) -> 0 | F29: =E29*VLOOKUP('Green+Social Interface'!$I$38,'Look-ups'!$A$15:$B$43,2,0) -> 0 | G29: 0.3 | H29: =IF(H142>0,'Green+Social Interface'!$O$19*(1-($H$136/$H$142)),0) -> 0 | I29: =1-('Green+Social Interface'!$O$11) -> 0.975 | K29: =IF(AND(L29>0,$B$85>0),L29/$B$85,0) -> 0 | L29: =AVERAGE(N29:BA29) -> 0 | M29: =SUM(N29:BA29) -> 0 | N29: =H29*G29*F29*I29 -> 0 | O29: =N29*(1+'Green+Social Interface'!$I$35) -> 0 | P29: =O29*(1+'Green+Social Interface'!$I$35) -> 0 | Q29: =P29*(1+'Green+Social Interface'!$I$35) -> 0 | R29: =Q29*(1+'Green+Social Interface'!$I$35) -> 0 | S29: =R29*(1+'Green+Social Interface'!$I$35) -> 0 | T29: =S29*(1+'Green+Social Interface'!$I$35) -> 0 | U29: =T29*(1+'Green+Social Interface'!$I$35) -> 0 | V29: =U29*(1+'Green+Social Interface'!$I$35) -> 0 | ... BA29: =AZ29*(1+'Green+Social Interface'!$I$35) -> 0
C30: 3-bed | D30: Private | E30: =IF('Green+Social Interface'!O20>0,(0.535*(Q95-(S95))*52)-(0.375*(Q95-(S95))*52),0) -> 0 | F30: =E30*VLOOKUP('Green+Social Interface'!$I$38,'Look-ups'!$A$15:$B$43,2,0) -> 0 | G30: 0.3 | H30: =IF(H142>0,'Green+Social Interface'!$O$20*(1-($H$136/$H$142)),0) -> 0 | I30: =1-('Green+Social Interface'!$O$11) -> 0.975 | K30: =IF(AND(L30>0,$B$85>0),L30/$B$85,0) -> 0 | L30: =AVERAGE(N30:BA30) -> 0 | M30: =SUM(N30:BA30) -> 0 | N30: =H30*G30*F30*I30 -> 0 | O30: =N30*(1+'Green+Social Interface'!$I$35) -> 0 | P30: =O30*(1+'Green+Social Interface'!$I$35) -> 0 | Q30: =P30*(1+'Green+Social Interface'!$I$35) -> 0 | R30: =Q30*(1+'Green+Social Interface'!$I$35) -> 0 | S30: =R30*(1+'Green+Social Interface'!$I$35) -> 0 | T30: =S30*(1+'Green+Social Interface'!$I$35) -> 0 | U30: =T30*(1+'Green+Social Interface'!$I$35) -> 0 | V30: =U30*(1+'Green+Social Interface'!$I$35) -> 0 | ... BA30: =AZ30*(1+'Green+Social Interface'!$I$35) -> 0
C31: 4-bed | D31: Private | E31: =IF('Green+Social Interface'!O21>0,(0.535*(Q96-(S96))*52)-(0.375*(Q96-(S96))*52),0) -> 0 | F31: =E31*VLOOKUP('Green+Social Interface'!$I$38,'Look-ups'!$A$15:$B$43,2,0) -> 0 | G31: 0.3 | H31: =IF(H142>0,'Green+Social Interface'!$O$21*(1-($H$136/$H$142)),0) -> 0 | I31: =1-('Green+Social Interface'!$O$11) -> 0.975 | K31: =IF(AND(L31>0,$B$85>0),L31/$B$85,0) -> 0 | L31: =AVERAGE(N31:BA31) -> 0 | M31: =SUM(N31:BA31) -> 0 | N31: =H31*G31*F31*I31 -> 0 | O31: =N31*(1+'Green+Social Interface'!$I$35) -> 0 | P31: =O31*(1+'Green+Social Interface'!$I$35) -> 0 | Q31: =P31*(1+'Green+Social Interface'!$I$35) -> 0 | R31: =Q31*(1+'Green+Social Interface'!$I$35) -> 0 | S31: =R31*(1+'Green+Social Interface'!$I$35) -> 0 | T31: =S31*(1+'Green+Social Interface'!$I$35) -> 0 | U31: =T31*(1+'Green+Social Interface'!$I$35) -> 0 | V31: =U31*(1+'Green+Social Interface'!$I$35) -> 0 | ... BA31: =AZ31*(1+'Green+Social Interface'!$I$35) -> 0
C32: 5-bed | D32: Private | E32: =IF('Green+Social Interface'!O22>0,(0.535*(Q97-(S97))*52)-(0.375*(Q97-(S97))*52),0) -> 0 | F32: =E32*VLOOKUP('Green+Social Interface'!$I$38,'Look-ups'!$A$15:$B$43,2,0) -> 0 | G32: 0.3 | H32: =IF(H142>0,'Green+Social Interface'!$O$22*(1-($H$136/$H$142)),0) -> 0 | I32: =1-('Green+Social Interface'!$O$11) -> 0.975 | K32: =IF(AND(L32>0,$B$85>0),L32/$B$85,0) -> 0 | L32: =AVERAGE(N32:BA32) -> 0 | M32: =SUM(N32:BA32) -> 0 | N32: =H32*G32*F32*I32 -> 0 | O32: =N32*(1+'Green+Social Interface'!$I$35) -> 0 | P32: =O32*(1+'Green+Social Interface'!$I$35) -> 0 | Q32: =P32*(1+'Green+Social Interface'!$I$35) -> 0 | R32: =Q32*(1+'Green+Social Interface'!$I$35) -> 0 | S32: =R32*(1+'Green+Social Interface'!$I$35) -> 0 | T32: =S32*(1+'Green+Social Interface'!$I$35) -> 0 | U32: =T32*(1+'Green+Social Interface'!$I$35) -> 0 | V32: =U32*(1+'Green+Social Interface'!$I$35) -> 0 | ... BA32: =AZ32*(1+'Green+Social Interface'!$I$35) -> 0
B35: Sum rental benefit affordable housing | D35: Private | K35: =IF(AND(L35>0,$B$85>0),L35/$B$85,0) -> 0 | L35: =AVERAGE(N35:BA35) -> 0 | M35: =SUM(N35:BA35) -> 0 | N35: =SUM(N13:N22) -> 0 | O35: =SUM(O13:O22) -> 0 | P35: =SUM(P13:P22) -> 0 | Q35: =SUM(Q13:Q22) -> 0 | R35: =SUM(R13:R22) -> 0 | S35: =SUM(S13:S22) -> 0 | T35: =SUM(T13:T22) -> 0 | U35: =SUM(U13:U22) -> 0 | ... BA35: =SUM(BA13:BA22) -> 0
B36: Sum rental benefit social housing | D36: Private | K36: =IF(AND(L36>0,$B$85>0),L36/$B$85,0) -> 0 | L36: =AVERAGE(N36:BA36) -> 0 | M36: =SUM(N36:BA36) -> 0 | N36: =SUM(N23:N32) -> 0 | O36: =SUM(O23:O32) -> 0 | P36: =SUM(P23:P32) -> 0 | Q36: =SUM(Q23:Q32) -> 0 | R36: =SUM(R23:R32) -> 0 | S36: =SUM(S23:S32) -> 0 | T36: =SUM(T23:T32) -> 0 | U36: =SUM(U23:U32) -> 0 | ... BA36: =SUM(BA23:BA32) -> 0
C37: ASVB make ends meet | D37: Public | E37: 277 | F37: =E37*VLOOKUP('Green+Social Interface'!$I$38,'Look-ups'!$A$15:$B$43,2,0) -> 296.39 | G37: 0.25 | H37: =B$85 -> 0 | I37: ='Green+Social Interface'!$O$6 -> 0.07 | K37: =IF(AND(L37>0,$B$85>0),L37/$B$85,0) -> 0 | L37: =AVERAGE(N37:BA37) -> 0 | M37: =SUM(N37:BA37) -> 0 | N37: =H37*G37*F37 -> 0 | O37: =N37*(1+'Green+Social Interface'!$I$35) -> 0 | P37: =O37*(1+'Green+Social Interface'!$I$35) -> 0 | Q37: =P37*(1+'Green+Social Interface'!$I$35) -> 0 | R37: =Q37*(1+'Green+Social Interface'!$I$35) -> 0 | S37: =R37*(1+'Green+Social Interface'!$I$35) -> 0 | T37: =S37*(1+'Green+Social Interface'!$I$35) -> 0 | U37: =T37*(1+'Green+Social Interface'!$I$35) -> 0 | V37: =U37*(1+'Green+Social Interface'!$I$35) -> 0 | ... BA37: =AZ37*(1+'Green+Social Interface'!$I$35) -> 0
C38: Complete Yr 12 | D38: Private | E38: 3430 | F38: =E38*VLOOKUP('Green+Social Interface'!$I$38,'Look-ups'!$A$15:$B$43,2,0) -> 3670.1 | G38: 0.05 | H38: =H$135 -> 0 | I38: ='Green+Social Interface'!$O$6 -> 0.07 | K38: =IF(AND(L38>0,$B$85>0),L38/$B$85,0) -> 0 | L38: =AVERAGE(N38:BA38) -> 0 | M38: =SUM(N38:BA38) -> 0 | N38: =H38*G38*F38 -> 0 | O38: =N38*(1+'Green+Social Interface'!$I$35) -> 0 | P38: =O38*(1+'Green+Social Interface'!$I$35) -> 0 | Q38: =P38*(1+'Green+Social Interface'!$I$35) -> 0 | R38: =Q38*(1+'Green+Social Interface'!$I$35) -> 0 | S38: =R38*(1+'Green+Social Interface'!$I$35) -> 0 | T38: =S38*(1+'Green+Social Interface'!$I$35) -> 0 | U38: =T38*(1+'Green+Social Interface'!$I$35) -> 0 | V38: =U38*(1+'Green+Social Interface'!$I$35) -> 0 | ... BA38: =AZ38*(1+'Green+Social Interface'!$I$35) -> 0
B39: Health and DV | C39: Pers spend severe depression | D39: Private | E39: 0 | F39: =E39*VLOOKUP('Green+Social Interface'!$I$38,'Look-ups'!$A$15:$B$43,2,0) -> 0 | G39: 0.04 | H39: =(0.5*H$138)+(0.3*H$139) -> 0 | I39: ='Green+Social Interface'!$O$6 -> 0.07 | K39: =IF(AND(L39>0,$B$85>0),L39/$B$85,0) -> 0 | L39: =AVERAGE(N39:BA39) -> 0 | M39: =SUM(N39:BA39) -> 0 | N39: =H39*G39*F39 -> 0 | O39: =N39*(1+'Green+Social Interface'!$I$35) -> 0 | P39: =O39*(1+'Green+Social Interface'!$I$35) -> 0 | Q39: =P39*(1+'Green+Social Interface'!$I$35) -> 0 | R39: =Q39*(1+'Green+Social Interface'!$I$35) -> 0 | S39: =R39*(1+'Green+Social Interface'!$I$35) -> 0 | T39: =S39*(1+'Green+Social Interface'!$I$35) -> 0 | U39: =T39*(1+'Green+Social Interface'!$I$35) -> 0 | V39: =U39*(1+'Green+Social Interface'!$I$35) -> 0 | ... BA39: =AZ39*(1+'Green+Social Interface'!$I$35) -> 0
C40: Pers spent other depression | D40: Private | E40: 5225 | F40: =E40*VLOOKUP('Green+Social Interface'!$I$38,'Look-ups'!$A$15:$B$43,2,0) -> 5590.75 | G40: 0.06 | H40: =(0.5*H$138)+(0.3*H$139) -> 0 | I40: ='Green+Social Interface'!$O$6 -> 0.07 | K40: =IF(AND(L40>0,$B$85>0),L40/$B$85,0) -> 0 | L40: =AVERAGE(N40:BA40) -> 0 | M40: =SUM(N40:BA40) -> 0 | N40: =H40*G40*F40 -> 0 | O40: =N40*(1+'Green+Social Interface'!$I$35) -> 0 | P40: =O40*(1+'Green+Social Interface'!$I$35) -> 0 | Q40: =P40*(1+'Green+Social Interface'!$I$35) -> 0 | R40: =Q40*(1+'Green+Social Interface'!$I$35) -> 0 | S40: =R40*(1+'Green+Social Interface'!$I$35) -> 0 | T40: =S40*(1+'Green+Social Interface'!$I$35) -> 0 | U40: =T40*(1+'Green+Social Interface'!$I$35) -> 0 | V40: =U40*(1+'Green+Social Interface'!$I$35) -> 0 | ... BA40: =AZ40*(1+'Green+Social Interface'!$I$35) -> 0 | BB40: *
C41: Public spend severe depression | D41: Public | E41: 0 | F41: =E41*VLOOKUP('Green+Social Interface'!$I$38,'Look-ups'!$A$15:$B$43,2,0) -> 0 | G41: 0.04 | H41: =(0.5*H$138)+(0.3*H$139) -> 0 | I41: ='Green+Social Interface'!$O$6 -> 0.07 | K41: =IF(AND(L41>0,$B$85>0),L41/$B$85,0) -> 0 | L41: =AVERAGE(N41:BA41) -> 0 | M41: =SUM(N41:BA41) -> 0 | N41: =H41*G41*F41 -> 0 | O41: =N41*(1+'Green+Social Interface'!$I$35) -> 0 | P41: =O41*(1+'Green+Social Interface'!$I$35) -> 0 | Q41: =P41*(1+'Green+Social Interface'!$I$35) -> 0 | R41: =Q41*(1+'Green+Social Interface'!$I$35) -> 0 | S41: =R41*(1+'Green+Social Interface'!$I$35) -> 0 | T41: =S41*(1+'Green+Social Interface'!$I$35) -> 0 | U41: =T41*(1+'Green+Social Interface'!$I$35) -> 0 | V41: =U41*(1+'Green+Social Interface'!$I$35) -> 0 | ... BA41: =AZ41*(1+'Green+Social Interface'!$I$35) -> 0
C42: Public spend other depression | D42: Public | E42: 1371 | F42: =E42*VLOOKUP('Green+Social Interface'!$I$38,'Look-ups'!$A$15:$B$43,2,0) -> 1466.97 | G42: 0.06 | H42: =(0.5*H$138)+(0.3*H$139) -> 0 | I42: ='Green+Social Interface'!$O$6 -> 0.07 | K42: =IF(AND(L42>0,$B$85>0),L42/$B$85,0) -> 0 | L42: =AVERAGE(N42:BA42) -> 0 | M42: =SUM(N42:BA42) -> 0 | N42: =H42*G42*F42 -> 0 | O42: =N42*(1+'Green+Social Interface'!$I$35) -> 0 | P42: =O42*(1+'Green+Social Interface'!$I$35) -> 0 | Q42: =P42*(1+'Green+Social Interface'!$I$35) -> 0 | R42: =Q42*(1+'Green+Social Interface'!$I$35) -> 0 | S42: =R42*(1+'Green+Social Interface'!$I$35) -> 0 | T42: =S42*(1+'Green+Social Interface'!$I$35) -> 0 | U42: =T42*(1+'Green+Social Interface'!$I$35) -> 0 | V42: =U42*(1+'Green+Social Interface'!$I$35) -> 0 | ... BA42: =AZ42*(1+'Green+Social Interface'!$I$35) -> 0
...

Sheet Green Infrastructure
B1: Housing Infrastructure Funding
B2: Wider social and economic benefits | H2: REMEMBER TO ADJUST FOR BASE YEAR EFFECT | L2: 15
G3: Year | H3: 0 | M3: 1 | N3: 2 | O3: 3 | P3: 4 | Q3: 5 | R3: 6 | S3: 7 | T3: 8 | U3: 9 | V3: 10 | W3: 11 | X3: 12 | Y3: 13 | Z3: 14 | AA3: 15 | AB3: 16 | AC3: 17 | AD3: 18 | AE3: 19 | AF3: 20 | AG3: 21 | AH3: 22 | AI3: 23 | AJ3: 24 | AK3: 25 | AL3: 26 | AM3: 27 | AN3: 28 | AO3: 29 | AP3: 30 | AQ3: 31 | AR3: 32 | AS3: 33 | AT3: 34 | AU3: 35 | AV3: 36 | AW3: 37 | AX3: 38 | AY3: 39 | AZ3: 40
B4: Category | C4: Tenant | D4: Beneficiary | J4: Average per dwell, 40 years | K4: Average 40 years | L4: Total | M4: Yr 1 | N4: Yr 2 | O4: Yr 3 | P4: Yr 4 | Q4: Yr 5 | R4: Yr 6 | S4: Yr 7 | T4: Yr 8 | U4: Yr 9 | V4: Yr 10 | W4: Yr 11 | X4: Yr 12 | Y4: Yr 13 | Z4: Yr 14 | AA4: Yr 15 | AB4: Yr 16 | AC4: Yr 17 | AD4: Yr 18 | AE4: Yr 19 | AF4: Yr 20 | AG4: Yr 21 | AH4: Yr 22 | AI4: Yr 23 | AJ4: Yr 24 | AK4: Yr 25 | AL4: Yr 26 | AM4: Yr 27 | AN4: Yr 28 | AO4: Yr 29 | AP4: Yr 30 | AQ4: Yr 31 | AR4: Yr 32 | AS4: Yr 33 | AT4: Yr 34 | AU4: Yr 35 | AV4: Yr 36 | AW4: Yr 37 | AX4: Yr 38 | AY4: Yr 39 | AZ4: Yr 40
B5: Cash benefits
B6: Willingness to pay | F6: Inflation adjusted
C7: Large park (houses) | D7: Private | E7: =VLOOKUP($D$85,'Look-ups_2'!$B$118:$I$228,2,0) -> 50.1 | F7: =E7*VLOOKUP('Green+Social Interface'!$I$38,'Look-ups'!$A$15:$B$43,2,0)*52 -> 2787.564 | G7: ='Green+Social Interface'!$O$6 -> 0.07 | H7: non-use value | J7: =IF(AND(K7>0,$D$72>0),K7/$D$72,0) -> 0 | K7: =AVERAGE(M7:AZ7) -> 0 | L7: =SUM(M7:AZ7) -> 0 | M7: =$F$7*'Green+Social Interface'!$U$69 -> 0 | N7: =M7*(1+'Green+Social Interface'!$I$35)*G7 -> 0 | O7: =N7*(1+$D$74) -> 0 | P7: =O7*(1+$D$74) -> 0 | Q7: =P7*(1+$D$74) -> 0 | R7: =Q7*(1+$D$74) -> 0 | S7: =R7*(1+$D$74) -> 0 | T7: =S7*(1+$D$74) -> 0 | U7: =T7*(1+$D$74) -> 0 | V7: =U7*(1+$D$74) -> 0 | ... AZ7: =AY7*(1+$D$74) -> 0
C8: Access to public transport (houses) | D8: Private | E8: =VLOOKUP($D$85,'Look-ups_2'!$B$118:$I$228,3,0) -> 38.04 | F8: =E8*VLOOKUP('Green+Social Interface'!$I$38,'Look-ups'!$A$15:$B$43,2,0)*52 -> 2116.5456 | G8: ='Green+Social Interface'!$O$6 -> 0.07 | H8: non-use value | J8: =IF(AND(K8>0,$D$72>0),K8/$D$72,0) -> 0 | K8: =AVERAGE(M8:AZ8) -> 0 | L8: =SUM(M8:AZ8) -> 0 | M8: =$F$8*'Green+Social Interface'!$U$61 -> 0 | N8: =M8*(1+'Green+Social Interface'!$I$35)*G8 -> 0 | O8: =N8*(1+$D$74) -> 0 | P8: =O8*(1+$D$74) -> 0 | Q8: =P8*(1+$D$74) -> 0 | R8: =Q8*(1+$D$74) -> 0 | S8: =R8*(1+$D$74) -> 0 | T8: =S8*(1+$D$74) -> 0 | U8: =T8*(1+$D$74) -> 0 | V8: =U8*(1+$D$74) -> 0 | ... AZ8: =AY8*(1+$D$74) -> 0
C9: Balcony/private garden (flats) | D9: Private | E9: =VLOOKUP($D$85,'Look-ups_2'!$B$118:$I$228,4,0) -> 36.96 | F9: =E9*VLOOKUP('Green+Social Interface'!$I$38,'Look-ups'!$A$15:$B$43,2,0)*52 -> 2056.4544 | G9: ='Green+Social Interface'!$O$6 -> 0.07 | H9: non-use value | J9: =IF(AND(K9>0,$D$72>0),K9/$D$72,0) -> 0 | K9: =AVERAGE(M9:AZ9) -> 0 | L9: =SUM(M9:AZ9) -> 0 | M9: =($F$9*$D$86*(1-'Green+Social Interface'!$O$11)) -> 0 | N9: =M9*(1+'Green+Social Interface'!$I$35)*G9 -> 0 | O9: =N9*(1+$D$74) -> 0 | P9: =O9*(1+$D$74) -> 0 | Q9: =P9*(1+$D$74) -> 0 | R9: =Q9*(1+$D$74) -> 0 | S9: =R9*(1+$D$74) -> 0 | T9: =S9*(1+$D$74) -> 0 | U9: =T9*(1+$D$74) -> 0 | V9: =U9*(1+$D$74) -> 0 | ... AZ9: =AY9*(1+$D$74) -> 0
C10: Medium parks (flats) | D10: Private | E10: =VLOOKUP($D$85,'Look-ups_2'!$B$118:$I$228,5,0) -> 21.15 | F10: =E10*VLOOKUP('Green+Social Interface'!$I$38,'Look-ups'!$A$15:$B$43,2,0)*52 -> 1176.786 | G10: ='Green+Social Interface'!$O$6 -> 0.07 | H10: non-use value | J10: =IF(AND(K10>0,$D$72>0),K10/$D$72,0) -> 0 | K10: =AVERAGE(M10:AZ10) -> 0 | L10: =SUM(M10:AZ10) -> 0 | M10: =$F$10*'Green+Social Interface'!$U$72 -> 0 | N10: =M10*(1+'Green+Social Interface'!$I$35)*G10 -> 0 | O10: =N10*(1+$D$74) -> 0 | P10: =O10*(1+$D$74) -> 0 | Q10: =P10*(1+$D$74) -> 0 | R10: =Q10*(1+$D$74) -> 0 | S10: =R10*(1+$D$74) -> 0 | T10: =S10*(1+$D$74) -> 0 | U10: =T10*(1+$D$74) -> 0 | V10: =U10*(1+$D$74) -> 0 | ... AZ10: =AY10*(1+$D$74) -> 0
